BEGIN:VCALENDAR
VERSION:2.0
PRODID:-//jEvents 2.0 for Joomla//EN
CALSCALE:GREGORIAN
METHOD:PUBLISH
BEGIN:VTIMEZONE
TZID:Europe/Vienna
END:VTIMEZONE
BEGIN:VEVENT
UID:3ad57a737b659abfc02d9a8ee1c4ba44
CATEGORIES:DEFAULT
SUMMARY:Mannschaftsvergleichkampf Mödling - Offenbach
DESCRIPTION;ENCODING=QUOTED-PRINTABLE:<p>auf lichess.org</p>
DTSTAMP:20260419T170544Z
DTSTART;TZID=Europe/Vienna:20200414T200000
DTEND;TZID=Europe/Vienna:20200414T210000
SEQUENCE:0
TRANSP:OPAQUE
END:VEVENT
END:VCALENDAR