BEGIN:VCALENDAR
VERSION:2.0
PRODID:-//jEvents 2.0 for Joomla//EN
CALSCALE:GREGORIAN
METHOD:PUBLISH
BEGIN:VTIMEZONE
TZID:Europe/Vienna
END:VTIMEZONE
BEGIN:VEVENT
UID:db066fd60d288c89c5a54ce9a99673f6
CATEGORIES:DEFAULT
SUMMARY:1. Mödlinger Online Blitzturnier
DESCRIPTION;ENCODING=QUOTED-PRINTABLE:<p><a href="https://lichess.org/tournament/poAIexjK">https://lichess.org/to
 urnament/poAIexjK</a></p>
DTSTAMP:20260419T161007Z
DTSTART;TZID=Europe/Vienna:20200331T190000
DTEND;TZID=Europe/Vienna:20200331T200000
SEQUENCE:0
TRANSP:OPAQUE
END:VEVENT
END:VCALENDAR