BEGIN:VCALENDAR
VERSION:2.0
PRODID:-//jEvents 2.0 for Joomla//EN
CALSCALE:GREGORIAN
METHOD:PUBLISH
BEGIN:VTIMEZONE
TZID:Europe/Vienna
END:VTIMEZONE
BEGIN:VEVENT
UID:12a678f469851b8d65a1c2f01d2c3f59
CATEGORIES:DEFAULT
SUMMARY:1.Klasse Mödling - Hietzing
DESCRIPTION;ENCODING=QUOTED-PRINTABLE:<p>BG Mödling, Untere Bachgasse 8</p>
DTSTAMP:20260419T190057Z
DTSTART;TZID=Europe/Vienna:20200229T150000
SEQUENCE:0
TRANSP:OPAQUE
END:VEVENT
END:VCALENDAR