BEGIN:VCALENDAR
VERSION:2.0
PRODID:-//jEvents 2.0 for Joomla//EN
CALSCALE:GREGORIAN
METHOD:PUBLISH
BEGIN:VTIMEZONE
TZID:Europe/Vienna
END:VTIMEZONE
BEGIN:VEVENT
UID:e76b8f8450e02b5b02c78d54ea876b00
CATEGORIES:DEFAULT
SUMMARY:Wiener Kinderliga Oberes Playoff 3.Runde
DESCRIPTION;ENCODING=QUOTED-PRINTABLE:<p>WSV Haus des Schachsports, 1020 Wien, Marathonweg 14</p>
DTSTAMP:20260419T152553Z
DTSTART;TZID=Europe/Vienna:20200216T140000
SEQUENCE:0
TRANSP:OPAQUE
END:VEVENT
END:VCALENDAR