BEGIN:VCALENDAR
VERSION:2.0
PRODID:-//jEvents 2.0 for Joomla//EN
CALSCALE:GREGORIAN
METHOD:PUBLISH
BEGIN:VTIMEZONE
TZID:Europe/Vienna
END:VTIMEZONE
BEGIN:VEVENT
UID:b535892ddbcb3c9d78e5e467443cd55e
CATEGORIES:DEFAULT
SUMMARY:1.Klasse Süd: Mödling - Austria
DESCRIPTION;ENCODING=QUOTED-PRINTABLE:\n\nHeimspiel im BG Mödling Bachgasse,\n\n\n2340 Mödling, Untere Bachgasse 
 8\n
DTSTAMP:20260419T152514Z
DTSTART;TZID=Europe/Vienna:20200118T150000
SEQUENCE:0
TRANSP:OPAQUE
END:VEVENT
END:VCALENDAR