BEGIN:VCALENDAR
VERSION:2.0
PRODID:-//jEvents 2.0 for Joomla//EN
CALSCALE:GREGORIAN
METHOD:PUBLISH
BEGIN:VTIMEZONE
TZID:Europe/Vienna
END:VTIMEZONE
BEGIN:VEVENT
UID:8e06c885d45937e214db003764d69b6b
CATEGORIES:DEFAULT
SUMMARY:A Liga Mödling - Hietzing
DESCRIPTION;ENCODING=QUOTED-PRINTABLE:\n\nHeimspiel im BG Mödling Bachgasse,\n\n\n2340 Mödling, Untere Bachgasse 
 8\n
DTSTAMP:20260419T152506Z
DTSTART;TZID=Europe/Vienna:20200118T150000
SEQUENCE:0
TRANSP:OPAQUE
END:VEVENT
END:VCALENDAR