BEGIN:VCALENDAR
VERSION:2.0
PRODID:-//jEvents 2.0 for Joomla//EN
CALSCALE:GREGORIAN
METHOD:PUBLISH
BEGIN:VTIMEZONE
TZID:Europe/Vienna
END:VTIMEZONE
BEGIN:VEVENT
UID:57a38d4e2aafbe1edf0295bc6c063171
CATEGORIES:DEFAULT
SUMMARY:Wiener Kinderliga Runde 5 und 6
LOCATION:WSV Haus des Schachsports, 2. Marathonweg 14
DESCRIPTION;ENCODING=QUOTED-PRINTABLE:\n\nWiener Kinderliga Runde 5 und 6\n
DTSTAMP:20260422T105459Z
DTSTART;TZID=Europe/Vienna:20191124T140000
SEQUENCE:0
TRANSP:OPAQUE
END:VEVENT
END:VCALENDAR