BEGIN:VCALENDAR
VERSION:2.0
PRODID:-//jEvents 2.0 for Joomla//EN
CALSCALE:GREGORIAN
METHOD:PUBLISH
BEGIN:VTIMEZONE
TZID:Europe/Vienna
END:VTIMEZONE
BEGIN:VEVENT
UID:a3bb64250f8bc2f7e0c2b7d00cfa3dd6
CATEGORIES:DEFAULT
SUMMARY:B Liga Mödling - Donaustadt
LOCATION:Mautwirtshaus Mödling, Elisabethstraße 22
DESCRIPTION;ENCODING=QUOTED-PRINTABLE:\n\nHeimspiel 4.Runde\n\n\nB Liga Mödling - Donaustadt\n\n\n \n
DTSTAMP:20260422T105457Z
DTSTART;TZID=Europe/Vienna:20191123T150000
SEQUENCE:0
TRANSP:OPAQUE
END:VEVENT
END:VCALENDAR