BEGIN:VCALENDAR
VERSION:2.0
PRODID:-//jEvents 2.0 for Joomla//EN
CALSCALE:GREGORIAN
METHOD:PUBLISH
BEGIN:VTIMEZONE
TZID:Europe/Vienna
END:VTIMEZONE
BEGIN:VEVENT
UID:f212683d3ef18b1c1b76bfdd6efd1ed4
CATEGORIES:DEFAULT
SUMMARY:Wiener Kinderliga Runde 3 und 4
LOCATION:WSV Haus des Schachsports, 2.Marathonweg 14
DESCRIPTION;ENCODING=QUOTED-PRINTABLE:\n\nWSV Haus des Schachsports, 2.Marathonweg 14\n
DTSTAMP:20260422T105536Z
DTSTART;TZID=Europe/Vienna:20191110T140000
SEQUENCE:0
TRANSP:OPAQUE
END:VEVENT
END:VCALENDAR