BEGIN:VCALENDAR
VERSION:2.0
PRODID:-//jEvents 2.0 for Joomla//EN
CALSCALE:GREGORIAN
METHOD:PUBLISH
BEGIN:VTIMEZONE
TZID:Europe/Vienna
END:VTIMEZONE
BEGIN:VEVENT
UID:9073fdec563913f3ad2c8dc425ef0fd4
CATEGORIES:DEFAULT
SUMMARY:B Liga  Perchtoldsdorf - Mödling
LOCATION:WSV Haus des Schachsports, 2.Marathonweg 14
DESCRIPTION;ENCODING=QUOTED-PRINTABLE:<p><span style="font-size: 12.16px;">WSV Haus des Schachsports, 2.Marathonw
 eg 14</span></p>
DTSTAMP:20260422T105634Z
DTSTART;TZID=Europe/Vienna:20191109T150000
SEQUENCE:0
TRANSP:OPAQUE
END:VEVENT
END:VCALENDAR