BEGIN:VCALENDAR
VERSION:2.0
PRODID:-//jEvents 2.0 for Joomla//EN
CALSCALE:GREGORIAN
METHOD:PUBLISH
BEGIN:VTIMEZONE
TZID:Europe/Vienna
END:VTIMEZONE
BEGIN:VEVENT
UID:21777a8f624a8d7a63115283f7b89531
CATEGORIES:DEFAULT
SUMMARY:1.Klasse Süd Auhof - Mödling
LOCATION:Hotel Rainers, 10.Gudrunstrasse 184
DESCRIPTION;ENCODING=QUOTED-PRINTABLE:<p><span style="font-size: 12.16px;">Hotel Rainers, 10.Gudrunstrasse 184</s
 pan></p>
DTSTAMP:20260419T194731Z
DTSTART;TZID=Europe/Vienna:20191019T150000
SEQUENCE:0
TRANSP:OPAQUE
END:VEVENT
END:VCALENDAR