BEGIN:VCALENDAR
VERSION:2.0
PRODID:-//jEvents 2.0 for Joomla//EN
CALSCALE:GREGORIAN
METHOD:PUBLISH
BEGIN:VTIMEZONE
TZID:Europe/Vienna
END:VTIMEZONE
BEGIN:VEVENT
UID:a72d2749f9d16f43ad9d079d479e673b
CATEGORIES:DEFAULT
SUMMARY:A-Liga tschaturanga - Mödling
LOCATION:WSV Haus des Schachsports, 2.Marathonweg 14
DESCRIPTION;ENCODING=QUOTED-PRINTABLE:<p><span style="font-size: 12.16px;">WSV Haus des Schachsports, 2.Marathonw
 eg 14</span></p>
DTSTAMP:20260419T155455Z
DTSTART;TZID=Europe/Vienna:20191019T150000
SEQUENCE:0
TRANSP:OPAQUE
END:VEVENT
END:VCALENDAR