BEGIN:VCALENDAR
VERSION:2.0
PRODID:-//jEvents 2.0 for Joomla//EN
CALSCALE:GREGORIAN
METHOD:PUBLISH
BEGIN:VTIMEZONE
TZID:Europe/Vienna
END:VTIMEZONE
BEGIN:VEVENT
UID:9cce699b809c50045cb5fc969205a19a
CATEGORIES:DEFAULT
SUMMARY:Wiener Kinderliga Runde 1 und 2
LOCATION:WSV Haus des Schachsports, 1020 Wien, Marathonweg 14
DESCRIPTION;ENCODING=QUOTED-PRINTABLE:<p><span style="font-size: 12.16px;">Wiener Kinderliga Runde 1 und 2</span>
 </p>
DTSTAMP:20260419T194808Z
DTSTART;TZID=Europe/Vienna:20191013T140000
SEQUENCE:0
TRANSP:OPAQUE
END:VEVENT
END:VCALENDAR