BEGIN:VCALENDAR
VERSION:2.0
PRODID:-//jEvents 2.0 for Joomla//EN
CALSCALE:GREGORIAN
METHOD:PUBLISH
BEGIN:VTIMEZONE
TZID:Europe/Vienna
END:VTIMEZONE
BEGIN:VEVENT
UID:a190051be5cd54ee1342e8f351781399
CATEGORIES:Meisterschaftstermine
SUMMARY:B-Liga Mödling - Hietzing
LOCATION:Gasthaus Alt-Wien, 1120 Wien, Koflergasse 26
DESCRIPTION;ENCODING=QUOTED-PRINTABLE:\n\nAchtung: Auswärtsspiel, weil das Mautwirtshaus  uns nicht zur Verfügung
  steht!\n
DTSTAMP:20260420T005306Z
DTSTART;TZID=Europe/Vienna:20190928T150000
SEQUENCE:0
TRANSP:OPAQUE
END:VEVENT
END:VCALENDAR