BEGIN:VCALENDAR
VERSION:2.0
PRODID:-//jEvents 2.0 for Joomla//EN
CALSCALE:GREGORIAN
METHOD:PUBLISH
BEGIN:VTIMEZONE
TZID:Europe/Vienna
END:VTIMEZONE
BEGIN:VEVENT
UID:961b7a85a61992ed024581e055f03b01
CATEGORIES:DEFAULT
SUMMARY:8. Mödlinger Aktivschachturnier für Kinder bis 12 Jahre
LOCATION:BG Mödling Bachgasse
DESCRIPTION;ENCODING=QUOTED-PRINTABLE:\n\n5 Runden à 15 min pro Partie\n\n\nInformation und Info:  Diese E-Mail-A
 dresse ist vor Spambots geschützt! Zur Anzeige muss JavaScript eingeschalte
 t sein!
				document.getElementById('cloak1e3921b70c9f7b1bcff548c2e88b285e'
 ).innerHTML = '';
				var prefix = '&#109;a' + 'i&#108;' + '&#116;o';
				v
 ar path = 'hr' + 'ef' + '=';
				var addy1e3921b70c9f7b1bcff548c2e88b285e =
  'g&#117;&#101;nt&#101;r.r&#105;&#101;r' + '&#64;';
				addy1e3921b70c9f7b1
 bcff548c2e88b285e = addy1e3921b70c9f7b1bcff548c2e88b285e + 'gmx' + '&#46;' 
 + '&#97;t';
				var addy_text1e3921b70c9f7b1bcff548c2e88b285e = 'g&#117;&#1
 01;nt&#101;r.r&#105;&#101;r' + '&#64;' + 'gmx' + '&#46;' + '&#97;t';documen
 t.getElementById('cloak1e3921b70c9f7b1bcff548c2e88b285e').innerHTML += ''+a
 ddy_text1e3921b70c9f7b1bcff548c2e88b285e+'';
		\n\n\n \n
DTSTAMP:20260422T105537Z
DTSTART;TZID=Europe/Vienna:20190901T140000
DTEND;TZID=Europe/Vienna:20190901T170000
SEQUENCE:0
TRANSP:OPAQUE
END:VEVENT
END:VCALENDAR