BEGIN:VCALENDAR
VERSION:2.0
PRODID:-//jEvents 2.0 for Joomla//EN
CALSCALE:GREGORIAN
METHOD:PUBLISH
BEGIN:VTIMEZONE
TZID:Europe/Vienna
END:VTIMEZONE
BEGIN:VEVENT
UID:6f9d72079b81f16d3b122613c9d17942
CATEGORIES:Meisterschaftstermine
SUMMARY:A-Liga Donaustadt - Mödling   gemeinsame Schlußrunde
LOCATION:WSV Haus des Schachsports, 1020 Wien, Marathonweg 14
DESCRIPTION;ENCODING=QUOTED-PRINTABLE:<p>9.Runde A.Liga gemeinsame Schlußrunde im Haus des Schachsports beim Happ
 elstadion</p>
DTSTAMP:20260419T140245Z
DTSTART;TZID=Europe/Vienna:20190323T150000
SEQUENCE:0
TRANSP:OPAQUE
END:VEVENT
END:VCALENDAR