BEGIN:VCALENDAR
VERSION:2.0
PRODID:-//jEvents 2.0 for Joomla//EN
CALSCALE:GREGORIAN
METHOD:PUBLISH
BEGIN:VTIMEZONE
TZID:Europe/Vienna
END:VTIMEZONE
BEGIN:VEVENT
UID:35ccd04023bf8f03f75c7fca84012ae1
CATEGORIES:Meisterschaftstermine
SUMMARY:B-Liga Sandleiten - Mödling
LOCATION:Cafe Kriemhild, 1150 Wien, Markgraf Rüdiger Strasse 14
DESCRIPTION;ENCODING=QUOTED-PRINTABLE:\n\n9.Runde B-Liga auswärts gegen Sandleiten\n
DTSTAMP:20260419T142343Z
DTSTART;TZID=Europe/Vienna:20190316T150000
SEQUENCE:0
TRANSP:OPAQUE
END:VEVENT
END:VCALENDAR