BEGIN:VCALENDAR
VERSION:2.0
PRODID:-//jEvents 2.0 for Joomla//EN
CALSCALE:GREGORIAN
METHOD:PUBLISH
BEGIN:VTIMEZONE
TZID:Europe/Vienna
END:VTIMEZONE
BEGIN:VEVENT
UID:fcd669fc6469db2d565f2fb444b07bf4
CATEGORIES:Meisterschaftstermine
SUMMARY:1.Klasse Süd: Mödling - Polyglott
LOCATION:BG Mödling, Untere Bachgasse 8
DESCRIPTION;ENCODING=QUOTED-PRINTABLE:<p>8.Runde 1.Klasse Süd Heimspiel gegen Polyglott</p>
DTSTAMP:20260421T131423Z
DTSTART;TZID=Europe/Vienna:20190309T150000
SEQUENCE:0
TRANSP:OPAQUE
END:VEVENT
END:VCALENDAR