BEGIN:VCALENDAR
VERSION:2.0
PRODID:-//jEvents 2.0 for Joomla//EN
CALSCALE:GREGORIAN
METHOD:PUBLISH
BEGIN:VTIMEZONE
TZID:Europe/Vienna
END:VTIMEZONE
BEGIN:VEVENT
UID:d0971525d5aaaa10cbeae43cf6e2bd07
CATEGORIES:Meisterschaftstermine
SUMMARY:A-Liga Mödling - Austria
LOCATION:BG Mödling, Untere Bachgasse 8
DESCRIPTION;ENCODING=QUOTED-PRINTABLE:<p>8.Runde A-Liga Heimspiel gegen die Austria</p>
DTSTAMP:20260422T105606Z
DTSTART;TZID=Europe/Vienna:20190309T150000
SEQUENCE:0
TRANSP:OPAQUE
END:VEVENT
END:VCALENDAR