BEGIN:VCALENDAR
VERSION:2.0
PRODID:-//jEvents 2.0 for Joomla//EN
CALSCALE:GREGORIAN
METHOD:PUBLISH
BEGIN:VTIMEZONE
TZID:Europe/Vienna
END:VTIMEZONE
BEGIN:VEVENT
UID:eda9ab5c33955e706a2c1576b691ccd2
CATEGORIES:Meisterschaftstermine
SUMMARY:1.Klasse Süd: Hernals - Mödling
LOCATION:Kulturbastion Meidling, 1120 Wien, Ruckergasse 52
DESCRIPTION;ENCODING=QUOTED-PRINTABLE:\n\n7.Runde auswärts gegen Hernals\n
DTSTAMP:20260422T105536Z
DTSTART;TZID=Europe/Vienna:20190223T150000
SEQUENCE:0
TRANSP:OPAQUE
END:VEVENT
END:VCALENDAR