BEGIN:VCALENDAR
VERSION:2.0
PRODID:-//jEvents 2.0 for Joomla//EN
CALSCALE:GREGORIAN
METHOD:PUBLISH
BEGIN:VTIMEZONE
TZID:Europe/Vienna
END:VTIMEZONE
BEGIN:VEVENT
UID:c56553134c4e1c1035110aeeceeb7a19
CATEGORIES:DEFAULT
SUMMARY:1.Klasse Süd: Mödling - Perchtoldsdorf
LOCATION:BG Mödling, Untere Bachgasse 8
DESCRIPTION;ENCODING=QUOTED-PRINTABLE:\n\n6.Runde Heimspiel gegen Perchtoldsdorf\n
DTSTAMP:20260422T105537Z
DTSTART;TZID=Europe/Vienna:20190126T150000
SEQUENCE:0
TRANSP:OPAQUE
END:VEVENT
END:VCALENDAR