BEGIN:VCALENDAR
VERSION:2.0
PRODID:-//jEvents 2.0 for Joomla//EN
CALSCALE:GREGORIAN
METHOD:PUBLISH
BEGIN:VTIMEZONE
TZID:Europe/Vienna
END:VTIMEZONE
BEGIN:VEVENT
UID:6ff75fd5f00cced1f18f430a1ecfafcc
CATEGORIES:Meisterschaftstermine
SUMMARY:A-Liga Mödling - tschaturanga
LOCATION:BG Mödling, Untere Bachgasse 8
DESCRIPTION;ENCODING=QUOTED-PRINTABLE:\n\n6.Runde Heimspiel gegen tschaturanga\n
DTSTAMP:20260422T105456Z
DTSTART;TZID=Europe/Vienna:20190126T150000
SEQUENCE:0
TRANSP:OPAQUE
END:VEVENT
END:VCALENDAR