BEGIN:VCALENDAR
VERSION:2.0
PRODID:-//jEvents 2.0 for Joomla//EN
CALSCALE:GREGORIAN
METHOD:PUBLISH
BEGIN:VTIMEZONE
TZID:Europe/Vienna
END:VTIMEZONE
BEGIN:VEVENT
UID:671402e17af74fd493a9f867d1b28089
CATEGORIES:Meisterschaftstermine
SUMMARY:Wiener Kinderliga oberes Playoff
LOCATION:WSV Haus des Schachsports, 1020 Wien, Marathonweg 14
DESCRIPTION;ENCODING=QUOTED-PRINTABLE:<p>2 Runden im oberen Playoff</p>
DTSTAMP:20260422T105634Z
DTSTART;TZID=Europe/Vienna:20190120T140000
SEQUENCE:0
TRANSP:OPAQUE
END:VEVENT
END:VCALENDAR