BEGIN:VCALENDAR
VERSION:2.0
PRODID:-//jEvents 2.0 for Joomla//EN
CALSCALE:GREGORIAN
METHOD:PUBLISH
BEGIN:VTIMEZONE
TZID:Europe/Vienna
END:VTIMEZONE
BEGIN:VEVENT
UID:b49cc968e8afc05c490c3be31135d893
CATEGORIES:Meisterschaftstermine
SUMMARY:B-Liga Mödling - Währing
LOCATION:Mautwirtshaus Mödling, Elisabethstrasse 22
DESCRIPTION;ENCODING=QUOTED-PRINTABLE:<p>6.Runde Heimspiel gegen Währing</p>
DTSTAMP:20260422T105633Z
DTSTART;TZID=Europe/Vienna:20190119T150000
SEQUENCE:0
TRANSP:OPAQUE
END:VEVENT
END:VCALENDAR