BEGIN:VCALENDAR
VERSION:2.0
PRODID:-//jEvents 2.0 for Joomla//EN
CALSCALE:GREGORIAN
METHOD:PUBLISH
BEGIN:VTIMEZONE
TZID:Europe/Vienna
END:VTIMEZONE
BEGIN:VEVENT
UID:54e50ee4b56ed8863287317db21566c6
CATEGORIES:Meisterschaftstermine
SUMMARY:1.Klasse Süd: Donaustadt - Mödling
LOCATION:TV Kagran, 1220 Wien, Anton Sattlergasse 92-96
DESCRIPTION;ENCODING=QUOTED-PRINTABLE:\n\n5.Runde auswärts gegen Donaustadt\n
DTSTAMP:20260422T105536Z
DTSTART;TZID=Europe/Vienna:20190112T150000
SEQUENCE:0
TRANSP:OPAQUE
END:VEVENT
END:VCALENDAR