BEGIN:VCALENDAR
VERSION:2.0
PRODID:-//jEvents 2.0 for Joomla//EN
CALSCALE:GREGORIAN
METHOD:PUBLISH
BEGIN:VTIMEZONE
TZID:Europe/Vienna
END:VTIMEZONE
BEGIN:VEVENT
UID:eeb131b825556bb29d1854a0b8247b9a
CATEGORIES:Meisterschaftstermine
SUMMARY:A-Liga Hernals - Mödling
LOCATION:Cafe Kreuzberg, 1070 Wien, Neustiftgasse 103
DESCRIPTION;ENCODING=QUOTED-PRINTABLE:\n\nA-Liga 5.Runde auswärts gegen Hernals\n
DTSTAMP:20260422T105457Z
DTSTART;TZID=Europe/Vienna:20190112T150000
SEQUENCE:0
TRANSP:OPAQUE
END:VEVENT
END:VCALENDAR