BEGIN:VCALENDAR
VERSION:2.0
PRODID:-//jEvents 2.0 for Joomla//EN
CALSCALE:GREGORIAN
METHOD:PUBLISH
BEGIN:VTIMEZONE
TZID:Europe/Vienna
END:VTIMEZONE
BEGIN:VEVENT
UID:7dc417b9f77741728ca80e3023721cae
CATEGORIES:DEFAULT
SUMMARY:Neujahrsblitzturnier
DESCRIPTION;ENCODING=QUOTED-PRINTABLE:<p>Neujahrsblitzturnier</p>
DTSTAMP:20260422T105605Z
DTSTART;TZID=Europe/Vienna:20190107T191500
DTEND;TZID=Europe/Vienna:20190107T220000
SEQUENCE:0
TRANSP:OPAQUE
END:VEVENT
END:VCALENDAR