BEGIN:VCALENDAR
VERSION:2.0
PRODID:-//jEvents 2.0 for Joomla//EN
CALSCALE:GREGORIAN
METHOD:PUBLISH
BEGIN:VTIMEZONE
TZID:Europe/Vienna
END:VTIMEZONE
BEGIN:VEVENT
UID:b45c46c3e0978bcaf8f7fdb6390407e1
CATEGORIES:DEFAULT
SUMMARY:Generalversammlung
DESCRIPTION;ENCODING=QUOTED-PRINTABLE:\n\nGeneralversammlung des SV Mödling im Mautwirtshaus a b 19 Uhr\n
DTSTAMP:20260420T014615Z
DTSTART;TZID=Europe/Vienna:20181119T190000
DTEND;TZID=Europe/Vienna:20181119T210000
SEQUENCE:0
TRANSP:OPAQUE
END:VEVENT
END:VCALENDAR